BEGIN:VCALENDAR
PRODID:-//Microsoft Corporation//Outlook 12.0 MIMEDIR//EN
VERSION:2.0
CALSCALE:GREGORIAN
BEGIN:VEVENT
UID: 8ad94aea-2b97-4d3e-8fbb-b22508c17b51
SUMMARY:Euroopa nädal 
DTSTAMP:20260504
DTSTART:20260504
DTEND:20260509
DURATION:P5D
LOCATION:
DESCRIPTION: <p>04.–08.05 tähistame koolis Euroopa nädalat, mille raames toimuvad põnevad külalisloengud ning emadepäevale pühendatud kevadkontsert, kus astub üles meie koolibänd. Euroopa nädala eesmärk on avardada õpilaste silmaringi ning tutvustada Euroopa riikide kultuurilist mitmekesisust.</p><p><strong>Link: </strong>https://home.sillamaegymn.edu.ee/sundmuste-kalender/euroopa-nadal</p><p><strong>Hind: </strong></p>
STATUS:CONFIRMED
SEQUENCE:3
X-ALT-DESC;FMTTYPE=text/html:<p>04.–08.05 tähistame koolis Euroopa nädalat, mille raames toimuvad põnevad külalisloengud ning emadepäevale pühendatud kevadkontsert, kus astub üles meie koolibänd. Euroopa nädala eesmärk on avardada õpilaste silmaringi ning tutvustada Euroopa riikide kultuurilist mitmekesisust.</p><p><strong>Link: </strong>https://home.sillamaegymn.edu.ee/sundmuste-kalender/euroopa-nadal</p><p><strong>Hind: </strong></p>
X-MICROSOFT-CDO-BUSYSTATUS:OOF
X-MICROSOFT-CDO-IMPORTANCE:1
X-MICROSOFT-DISALLOW-COUNTER:FALSE
X-MS-OLK-ALLOWEXTERNCHECK:TRUE
X-MS-OLK-CONFTYPE:0
X-MICROSOFT-CDO-ALLDAYEVENT:1
X-MICROSOFT-MSNCALENDAR-ALLDAYEVENT:1
END:VEVENT
END:VCALENDAR